BEGIN:VCALENDAR
VERSION:2.0
PRODID:-//www.ekistuwei.de//NONSGML kigkonsult.se iCalcreator 2.41.92//
CALSCALE:GREGORIAN
METHOD:PUBLISH
UID:31393264-6666-4066-b138-666366326366
X-WR-TIMEZONE:Europe/Berlin
X-LIC-LOCATION:Europe/Berlin
BEGIN:VTIMEZONE
TZID:Europe/Berlin
BEGIN:DAYLIGHT
TZOFFSETFROM:+0100
TZOFFSETTO:+0200
TZNAME:CEST
DTSTART:19700329T020000
RRULE:FREQ=YEARLY;BYDAY=-1SU;BYMONTH=3
END:DAYLIGHT
BEGIN:STANDARD
TZOFFSETFROM:+0200
TZOFFSETTO:+0100
TZNAME:CET
DTSTART:19701025T030000
RRULE:FREQ=YEARLY;BYDAY=-1SU;BYMONTH=10
END:STANDARD
END:VTIMEZONE
BEGIN:VEVENT
UID:30346266-3961-4661-b538-333235343863
DTSTAMP:20260421T212411Z
DESCRIPTION:Horst Punge wird durch das Rollensprechstück 'Die Macht des Ohn
 mächtigen' führen. Zugrunde liegt die Erzählung 'Las Casas vor Karl V.' vo
 n Reinhold Schneider\, die sich mit Kolonisation\, Unterdrückung und Ausbe
 utung indigener Völker beschäftigt. Herzliche Einladung\, auch an interess
 ierte Männer ab 50.\n \n Veranstaltungsort:\n Gemeindehaus\n kleiner Saal
 \n Hirschstraße 22\n 76297 Stutensee-Friedrichstal\n \n Veranstalter:\n ev
 . Kirchengemeinde Friedrichstal\n Wallonenstr. 21\n 76297 Stutensee\n Tele
 fon: 07249 3430\n https://www.ekistuwei.de/friedrichstal
DTSTART;TZID=Europe/Berlin:20260429T193000
DTEND;TZID=Europe/Berlin:20260429T213000
LOCATION:Gemeindehaus\n - kleiner Saal\n - Hirschstraße 22\n - 76297 Stuten
 see-Friedrichstal
SUMMARY:Männersache
X-ALT-DESC;FMTTYPE=text/html:Horst Punge wird durch das Rollensprechstück '
 Die Macht des Ohnmächtigen' führen.\n Zugrunde liegt die Erzählung 'Las Ca
 sas vor Karl V.' von Reinhold Schneider\, die sich mit Kolonisation\, Unte
 rdrückung und Ausbeutung indigener Völker beschäftigt.\n Herzliche Einladu
 ng\, auch an interessierte Männer ab 50.<br /><br />Veranstaltungsort: <br
  />Gemeindehaus<br />kleiner Saal<br />Hirschstraße 22<br />76297 Stutense
 e-Friedrichstal<br /><br />Veranstalter: <br />ev. Kirchengemeinde Friedri
 chstal<br />Wallonenstr. 21<br />76297 Stutensee<br />Telefon: 07249 3430<
 br />https://www.ekistuwei.de/friedrichstal
END:VEVENT
END:VCALENDAR
