BEGIN:VCALENDAR
VERSION:2.0
PRODID:-//www.ekistuwei.de//NONSGML kigkonsult.se iCalcreator 2.41.92//
CALSCALE:GREGORIAN
METHOD:PUBLISH
UID:38616264-3033-4963-a638-396262303530
X-WR-TIMEZONE:Europe/Berlin
X-LIC-LOCATION:Europe/Berlin
BEGIN:VTIMEZONE
TZID:Europe/Berlin
BEGIN:DAYLIGHT
TZOFFSETFROM:+0100
TZOFFSETTO:+0200
TZNAME:CEST
DTSTART:19700329T020000
RRULE:FREQ=YEARLY;BYDAY=-1SU;BYMONTH=3
END:DAYLIGHT
BEGIN:STANDARD
TZOFFSETFROM:+0200
TZOFFSETTO:+0100
TZNAME:CET
DTSTART:19701025T030000
RRULE:FREQ=YEARLY;BYDAY=-1SU;BYMONTH=10
END:STANDARD
END:VTIMEZONE
BEGIN:VEVENT
UID:37666561-3136-4633-b336-626566383038
DTSTAMP:20260421T195236Z
DESCRIPTION:Der offene Bibeltreff ist eine gute Möglichkeit\, die Bibel bes
 ser kennenzulernen. Wir lesen Texte aus der Bibel und im Gespräch überlege
 n wir\, wie wir die Aussagen in unserem Alltag umsetzen können. Jeder kann
  unvorbereitet kommen.\n \n Veranstaltungsort:\n Gemeindehaus\n kleiner Sa
 al\n Hirschstraße 22\n 76297 Stutensee-Friedrichstal\n \n Veranstalter:\n 
 ev. Kirchengemeinde Friedrichstal\n Wallonenstr. 21\n 76297 Stutensee\n Te
 lefon: 07249 3430\n https://www.ekistuwei.de/friedrichstal
DTSTART;TZID=Europe/Berlin:20260428T193000
DTEND;TZID=Europe/Berlin:20260428T210000
LOCATION:Gemeindehaus\n - kleiner Saal\n - Hirschstraße 22\n - 76297 Stuten
 see-Friedrichstal
SUMMARY:offener Bibeltreff
X-ALT-DESC;FMTTYPE=text/html:Der offene Bibeltreff ist eine gute Möglichkei
 t\, die Bibel besser kennenzulernen.\n Wir lesen Texte aus der Bibel und i
 m Gespräch überlegen wir\, wie wir die Aussagen in unserem Alltag umsetzen
  können.\n Jeder kann unvorbereitet kommen.<br /><br />Veranstaltungsort: 
 <br />Gemeindehaus<br />kleiner Saal<br />Hirschstraße 22<br />76297 Stute
 nsee-Friedrichstal<br /><br />Veranstalter: <br />ev. Kirchengemeinde Frie
 drichstal<br />Wallonenstr. 21<br />76297 Stutensee<br />Telefon: 07249 34
 30<br />https://www.ekistuwei.de/friedrichstal
END:VEVENT
END:VCALENDAR
