BEGIN:VCALENDAR
VERSION:2.0
PRODID:-//www.ekistuwei.de//NONSGML kigkonsult.se iCalcreator 2.41.92//
CALSCALE:GREGORIAN
METHOD:PUBLISH
UID:34623566-3362-4336-a531-666532313166
X-WR-TIMEZONE:Europe/Berlin
X-LIC-LOCATION:Europe/Berlin
BEGIN:VTIMEZONE
TZID:Europe/Berlin
BEGIN:DAYLIGHT
TZOFFSETFROM:+0100
TZOFFSETTO:+0200
TZNAME:CEST
DTSTART:19700329T020000
RRULE:FREQ=YEARLY;BYDAY=-1SU;BYMONTH=3
END:DAYLIGHT
BEGIN:STANDARD
TZOFFSETFROM:+0200
TZOFFSETTO:+0100
TZNAME:CET
DTSTART:19701025T030000
RRULE:FREQ=YEARLY;BYDAY=-1SU;BYMONTH=10
END:STANDARD
END:VTIMEZONE
BEGIN:VEVENT
UID:30383061-3136-4139-a137-393962633265
DTSTAMP:20260421T225849Z
DESCRIPTION:Veranstaltungsort:\n Gemeindehaus\n großer Saal\n Hirschstraße 
 22\n 76297 Stutensee-Friedrichstal\n \n Veranstalter:\n ev. Kirchengemeind
 e Friedrichstal\n Wallonenstr. 21\n 76297 Stutensee\n Telefon: 07249 3430
 \n https://www.ekistuwei.de/friedrichstal
DTSTART;TZID=Europe/Berlin:20260426T100000
DTEND;TZID=Europe/Berlin:20260426T110000
LOCATION:Gemeindehaus\n - großer Saal\n - Hirschstraße 22\n - 76297 Stutens
 ee-Friedrichstal
SUMMARY:Kindergottesdienst
X-ALT-DESC;FMTTYPE=text/html:Veranstaltungsort: <br />Gemeindehaus<br />gro
 ßer Saal<br />Hirschstraße 22<br />76297 Stutensee-Friedrichstal<br /><br 
 />Veranstalter: <br />ev. Kirchengemeinde Friedrichstal<br />Wallonenstr. 
 21<br />76297 Stutensee<br />Telefon: 07249 3430<br />https://www.ekistuwe
 i.de/friedrichstal
END:VEVENT
END:VCALENDAR
