BEGIN:VCALENDAR
VERSION:2.0
PRODID:-//www.ekistuwei.de//NONSGML kigkonsult.se iCalcreator 2.41.92//
CALSCALE:GREGORIAN
METHOD:PUBLISH
UID:33343363-3961-4631-a538-356536393237
X-WR-TIMEZONE:Europe/Berlin
X-LIC-LOCATION:Europe/Berlin
BEGIN:VTIMEZONE
TZID:Europe/Berlin
BEGIN:DAYLIGHT
TZOFFSETFROM:+0100
TZOFFSETTO:+0200
TZNAME:CEST
DTSTART:19700329T020000
RRULE:FREQ=YEARLY;BYDAY=-1SU;BYMONTH=3
END:DAYLIGHT
BEGIN:STANDARD
TZOFFSETFROM:+0200
TZOFFSETTO:+0100
TZNAME:CET
DTSTART:19701025T030000
RRULE:FREQ=YEARLY;BYDAY=-1SU;BYMONTH=10
END:STANDARD
END:VTIMEZONE
BEGIN:VEVENT
UID:64653830-3930-4535-a332-663433376665
DTSTAMP:20260421T195155Z
DESCRIPTION:in Lachen bei Neustadt/Weinstraße\n \n Freizeit für jedermann i
 n den christlichen Gästehäusern in Lachen Lachen tut gut!\n \n Veranstaltu
 ngsort:\n Lachen/Weinsraße\n \n Veranstalter:\n ev. Kirchengemeinde Friedr
 ichstal\n Wallonenstr. 21\n 76297 Stutensee\n Telefon: 07249 3430\n https:
 //www.ekistuwei.de/friedrichstal
DTSTART;TZID=Europe/Berlin:20260424T160000
DTEND;TZID=Europe/Berlin:20260426T140000
LOCATION:Lachen/Weinsraße
SUMMARY:Gemeindefreizeit
X-ALT-DESC;FMTTYPE=text/html:in Lachen bei Neustadt/Weinstraße <br /><br />
 Freizeit für jedermann in den christlichen Gästehäusern in Lachen\n Lachen
  tut gut!<br /><br />Veranstaltungsort: <br />Lachen/Weinsraße<br /><br />
 Veranstalter: <br />ev. Kirchengemeinde Friedrichstal<br />Wallonenstr. 21
 <br />76297 Stutensee<br />Telefon: 07249 3430<br />https://www.ekistuwei.
 de/friedrichstal
END:VEVENT
END:VCALENDAR
