BEGIN:VCALENDAR
VERSION:2.0
PRODID:-//www.ekistuwei.de//NONSGML kigkonsult.se iCalcreator 2.41.92//
CALSCALE:GREGORIAN
METHOD:PUBLISH
UID:64663732-3862-4961-b034-393464623331
X-WR-TIMEZONE:Europe/Berlin
X-LIC-LOCATION:Europe/Berlin
BEGIN:VTIMEZONE
TZID:Europe/Berlin
BEGIN:DAYLIGHT
TZOFFSETFROM:+0100
TZOFFSETTO:+0200
TZNAME:CEST
DTSTART:19700329T020000
RRULE:FREQ=YEARLY;BYDAY=-1SU;BYMONTH=3
END:DAYLIGHT
BEGIN:STANDARD
TZOFFSETFROM:+0200
TZOFFSETTO:+0100
TZNAME:CET
DTSTART:19701025T030000
RRULE:FREQ=YEARLY;BYDAY=-1SU;BYMONTH=10
END:STANDARD
END:VTIMEZONE
BEGIN:VEVENT
UID:61653131-3937-4036-b065-396138323434
DTSTAMP:20260422T003240Z
DESCRIPTION:am Sonntag Jubilate\n \n mit Prädikantin Erika Volz Wir feiern 
 im Gottesdienst das Abendmahl. Wir übertragen diesen Gottesdienst live auf
  unserem YouTube-Kanal: https://youtube.com/live/3E2t8kUy6v8\n \n Veransta
 ltungsort:\n ev. Kirche\n Hirschstr. 12\n 76297 Stutensee-Friedrichstal\n 
 \n Veranstalter:\n ev. Kirchengemeinde Friedrichstal\n Wallonenstr. 21\n 7
 6297 Stutensee\n Telefon: 07249 3430\n https://www.ekistuwei.de/friedrichs
 tal
DTSTART;TZID=Europe/Berlin:20260426T100000
DTEND;TZID=Europe/Berlin:20260426T110000
LOCATION:ev. Kirche\n - Hirschstr. 12\n - 76297 Stutensee-Friedrichstal
SUMMARY:Gottesdienst
X-ALT-DESC;FMTTYPE=text/html:am Sonntag Jubilate<br /><br />mit Prädikantin
  Erika Volz\n Wir feiern im Gottesdienst das Abendmahl.\n \n Wir übertrage
 n diesen Gottesdienst live auf unserem YouTube-Kanal:\n https://youtube.co
 m/live/3E2t8kUy6v8<br /><br />Veranstaltungsort: <br />ev. Kirche<br />Hir
 schstr. 12<br />76297 Stutensee-Friedrichstal<br /><br />Veranstalter: <br
  />ev. Kirchengemeinde Friedrichstal<br />Wallonenstr. 21<br />76297 Stute
 nsee<br />Telefon: 07249 3430<br />https://www.ekistuwei.de/friedrichstal
END:VEVENT
END:VCALENDAR
